BEGIN:VCALENDAR
VERSION:2.0
PRODID:-//Chinchilla Rescue - ECPv6.15.20//NONSGML v1.0//EN
CALSCALE:GREGORIAN
METHOD:PUBLISH
X-WR-CALNAME:Chinchilla Rescue
X-ORIGINAL-URL:https://chinchillarescue.org/newsite
X-WR-CALDESC:Events for Chinchilla Rescue
REFRESH-INTERVAL;VALUE=DURATION:PT1H
X-Robots-Tag:noindex
X-PUBLISHED-TTL:PT1H
BEGIN:VTIMEZONE
TZID:America/Los_Angeles
BEGIN:DAYLIGHT
TZOFFSETFROM:-0800
TZOFFSETTO:-0700
TZNAME:PDT
DTSTART:20240310T100000
END:DAYLIGHT
BEGIN:STANDARD
TZOFFSETFROM:-0700
TZOFFSETTO:-0800
TZNAME:PST
DTSTART:20241103T090000
END:STANDARD
BEGIN:DAYLIGHT
TZOFFSETFROM:-0800
TZOFFSETTO:-0700
TZNAME:PDT
DTSTART:20250309T100000
END:DAYLIGHT
BEGIN:STANDARD
TZOFFSETFROM:-0700
TZOFFSETTO:-0800
TZNAME:PST
DTSTART:20251102T090000
END:STANDARD
BEGIN:DAYLIGHT
TZOFFSETFROM:-0800
TZOFFSETTO:-0700
TZNAME:PDT
DTSTART:20260308T100000
END:DAYLIGHT
BEGIN:STANDARD
TZOFFSETFROM:-0700
TZOFFSETTO:-0800
TZNAME:PST
DTSTART:20261101T090000
END:STANDARD
END:VTIMEZONE
BEGIN:VEVENT
DTSTART;TZID=America/Los_Angeles:20251118T140000
DTEND;TZID=America/Los_Angeles:20251118T170000
DTSTAMP:20260421T062323
CREATED:20250929T025740Z
LAST-MODIFIED:20251105T184626Z
UID:1847-1763474400-1763485200@chinchillarescue.org
SUMMARY:ChinDome Event @ Children's Museum of Sonoma County
DESCRIPTION:We are honored to be asked to bring our ChinDome to the Children’s Museum of Sonoma County during their Tuesday’s “Sensory Friendly Afternoon” on Veterans Day. If you are there that day stop by and say “hi” and play with some of our chins. Children’s Museum Pre-registration recommended. \nUPDATE – This event was moved one week out to 11/18
URL:https://chinchillarescue.org/newsite/event/chindome-event-childrens-museum-of-sonoma-county/
LOCATION:Children’s Museum of Sonoma County\, 1835 W. Steele Lane\, Santa Rosa\, CA\, 95403\, United States
END:VEVENT
BEGIN:VEVENT
DTSTART;TZID=America/Los_Angeles:20251114T120000
DTEND;TZID=America/Los_Angeles:20251114T150000
DTSTAMP:20260421T062323
CREATED:20251102T041004Z
LAST-MODIFIED:20251102T041004Z
UID:1878-1763121600-1763132400@chinchillarescue.org
SUMMARY:ChinTalk – Ellis Elementary School in Sunnyvale\, CA
DESCRIPTION:We are bringing some of our Chins to Ellis Elementary School in Sunnyvale for a 4nd Grade classroom visit and learning session.
URL:https://chinchillarescue.org/newsite/event/chintalk-ellis-elementary-school-in-sunnyvale-ca-5/
END:VEVENT
BEGIN:VEVENT
DTSTART;TZID=America/Los_Angeles:20251113T120000
DTEND;TZID=America/Los_Angeles:20251113T150000
DTSTAMP:20260421T062323
CREATED:20251102T040859Z
LAST-MODIFIED:20251102T040859Z
UID:1876-1763035200-1763046000@chinchillarescue.org
SUMMARY:ChinTalk – Ellis Elementary School in Sunnyvale\, CA
DESCRIPTION:We are bringing some of our Chins to Ellis Elementary School in Sunnyvale for a 4nd Grade classroom visit and learning session.
URL:https://chinchillarescue.org/newsite/event/chintalk-ellis-elementary-school-in-sunnyvale-ca-4/
END:VEVENT
BEGIN:VEVENT
DTSTART;TZID=America/Los_Angeles:20251026T110000
DTEND;TZID=America/Los_Angeles:20251026T150000
DTSTAMP:20260421T062323
CREATED:20251014T041910Z
LAST-MODIFIED:20251014T041910Z
UID:1873-1761476400-1761490800@chinchillarescue.org
SUMMARY:Sunnyvale Halloween Pet Parade
DESCRIPTION:We will be bringing our Tent and some chinchillas (weather permitting) to the Sunnyvale Halloween Pet Parade. Look for us in the Plaza del Sol at the end of the parade path.
URL:https://chinchillarescue.org/newsite/event/sunnyvale-halloween-pet-parade/
LOCATION:Sunnyvale Plaza del Sol\, 200 W Evelyn Ave\, Sunnyvale\, CA\, 94086\, United States
END:VEVENT
BEGIN:VEVENT
DTSTART;TZID=America/Los_Angeles:20251017T100000
DTEND;TZID=America/Los_Angeles:20251017T120000
DTSTAMP:20260421T062323
CREATED:20251011T032124Z
LAST-MODIFIED:20251011T032230Z
UID:1861-1760695200-1760702400@chinchillarescue.org
SUMMARY:ChinTalk - Ellis Elementary School in Sunnyvale\, CA
DESCRIPTION:We are bringing some of our Chins to Ellis Elementary School in Sunnyvale for a 2nd Grade classroom visit and learning session.
URL:https://chinchillarescue.org/newsite/event/chintalk-ellis-elementary-school-in-sunnyvale-ca-3/
END:VEVENT
BEGIN:VEVENT
DTSTART;TZID=America/Los_Angeles:20251016T120000
DTEND;TZID=America/Los_Angeles:20251016T150000
DTSTAMP:20260421T062323
CREATED:20251011T031945Z
LAST-MODIFIED:20251011T032322Z
UID:1859-1760616000-1760626800@chinchillarescue.org
SUMMARY:ChinTalk - Ellis Elementary School in Sunnyvale\, CA
DESCRIPTION:We are bringing some of our Chins to Ellis Elementary School in Sunnyvale for a couple of 2nd Grade classroom visits and learning sessions.
URL:https://chinchillarescue.org/newsite/event/chintalk-ellis-elementary-school-in-sunnyvale-ca-2/
END:VEVENT
BEGIN:VEVENT
DTSTART;TZID=America/Los_Angeles:20251015T120000
DTEND;TZID=America/Los_Angeles:20251015T150000
DTSTAMP:20260421T062323
CREATED:20251011T031625Z
LAST-MODIFIED:20251011T032751Z
UID:1857-1760529600-1760540400@chinchillarescue.org
SUMMARY:ChinTalk - Ellis Elementary School in Sunnyvale\, CA
DESCRIPTION:We are bringing some of our Chins to Ellis Elementary School in Sunnyvale for a couple of 2nd Grade classroom visits and learning sessions.
URL:https://chinchillarescue.org/newsite/event/chintalk-ellis-elementary-school-in-sunnyvale-ca/
END:VEVENT
BEGIN:VEVENT
DTSTART;TZID=America/Los_Angeles:20250927T110000
DTEND;TZID=America/Los_Angeles:20250927T150000
DTSTAMP:20260421T062323
CREATED:20250825T022243Z
LAST-MODIFIED:20250825T022243Z
UID:1800-1758970800-1758985200@chinchillarescue.org
SUMMARY:2025 Pet Fair - Mountain View Pet Food Express
DESCRIPTION:Mountain View\, we are bringing our ChinDome Chinchilla Petting Zoo (Show & Tell) to a Pet Food Express near you! Come SEE\, PLAY\, HOLD\, LEARN Chinchillas (sorry\, no adoptions done during event). – See you all there!!  ￼LOCATION: Mountain View (1768 Miramonte Ave)  DATE & TIME: Sunday 9/15/24 @ 11:30 AM – 4:00 PM
URL:https://chinchillarescue.org/newsite/event/2025-pet-fair-mountain-view-pet-food-express/
LOCATION:Pet Food Express – Mountain View\, 1768 Miramonte Avenue\, Mountain View\, CA\, 94040\, United States
END:VEVENT
BEGIN:VEVENT
DTSTART;TZID=America/Los_Angeles:20250913T100000
DTEND;TZID=America/Los_Angeles:20250913T190000
DTSTAMP:20260421T062323
CREATED:20250826T045227Z
LAST-MODIFIED:20250826T144203Z
UID:1814-1757757600-1757790000@chinchillarescue.org
SUMMARY:2025 Silicon Valley Fall Fest
DESCRIPTION:We are happy to say we will be attending the Silicon Valley Fall Fest on September 13th\, 2024 (10a-7p) @ Memorial Park\, Cupertino. Look for us in a shady spot near the Kid’s Zone. See you all there.\nhttps://www.sv-ff.com\, https://www.facebook.com/SiliconValleyFallFest/
URL:https://chinchillarescue.org/newsite/event/2025-silicon-valley-fall-fest/
LOCATION:Memorial Park\, Cupertino\, 21121 Stevens Creek Blvd\, Cupertino\, CA\, 95014\, United States
END:VEVENT
BEGIN:VEVENT
DTSTART;TZID=America/Los_Angeles:20250607T100000
DTEND;TZID=America/Los_Angeles:20250607T170000
DTSTAMP:20260421T062323
CREATED:20250430T042420Z
LAST-MODIFIED:20250516T003251Z
UID:1716-1749290400-1749315600@chinchillarescue.org
SUMMARY:California Adopt-A-Pet Day
DESCRIPTION:We are opening our doors.  \nPlease join us at our Sunnyvale Headquarters  to celebrate California Adopt-A-Pet Day\n\n\n\nCAadoptDayFlyer-Small.pdf\n\n 
URL:https://chinchillarescue.org/newsite/event/ca-adopt-a-pet-day/
LOCATION:Chinchilla Rescue HQ\, 1378 La Bella Ave\, sunnyvale\, CA\, 94087\, United States
ATTACH;FMTTYPE=image/tiff:https://chinchillarescue.org/newsite/wp-content/uploads/2025/04/IMG_0412.tiff
ORGANIZER;CN="CA Chins":MAILTO:cachins88@gmail.com
END:VEVENT
BEGIN:VEVENT
DTSTART;TZID=America/Los_Angeles:20250531T110000
DTEND;TZID=America/Los_Angeles:20250531T130000
DTSTAMP:20260421T062323
CREATED:20250507T034006Z
LAST-MODIFIED:20250507T034006Z
UID:1723-1748689200-1748696400@chinchillarescue.org
SUMMARY:ChinDome – Private Birthday Party
DESCRIPTION:
URL:https://chinchillarescue.org/newsite/event/chindome-private-birthday-party/
END:VEVENT
BEGIN:VEVENT
DTSTART;TZID=America/Los_Angeles:20250523T131500
DTEND;TZID=America/Los_Angeles:20250523T143000
DTSTAMP:20260421T062323
CREATED:20250430T042103Z
LAST-MODIFIED:20250430T042103Z
UID:1712-1748006100-1748010600@chinchillarescue.org
SUMMARY:Classroom Visit - Cumberland Elementary School
DESCRIPTION:We are bringing some of our Chins to Cumberland Elementary School for a classroom visit and learning session.
URL:https://chinchillarescue.org/newsite/event/classroom-visit-cumberland-elementary-school-3/
END:VEVENT
BEGIN:VEVENT
DTSTART;TZID=America/Los_Angeles:20250516T131500
DTEND;TZID=America/Los_Angeles:20250516T143000
DTSTAMP:20260421T062323
CREATED:20250430T042023Z
LAST-MODIFIED:20250430T042023Z
UID:1710-1747401300-1747405800@chinchillarescue.org
SUMMARY:Classroom Visit - Cumberland Elementary School
DESCRIPTION:We are bringing some of our Chins to Cumberland Elementary School for a classroom visit and learning session.
URL:https://chinchillarescue.org/newsite/event/classroom-visit-cumberland-elementary-school-2/
END:VEVENT
BEGIN:VEVENT
DTSTART;TZID=America/Los_Angeles:20250509T131500
DTEND;TZID=America/Los_Angeles:20250509T143000
DTSTAMP:20260421T062323
CREATED:20250430T041943Z
LAST-MODIFIED:20250430T041943Z
UID:1708-1746796500-1746801000@chinchillarescue.org
SUMMARY:Classroom Visit - Cumberland Elementary School
DESCRIPTION:We are bringing some of our Chins to Cumberland Elementary School for a classroom visit and learning session.
URL:https://chinchillarescue.org/newsite/event/classroom-visit-cumberland-elementary-school/
END:VEVENT
BEGIN:VEVENT
DTSTART;TZID=America/Los_Angeles:20250505T160000
DTEND;TZID=America/Los_Angeles:20250505T180000
DTSTAMP:20260421T062323
CREATED:20250428T034749Z
LAST-MODIFIED:20250428T034829Z
UID:1705-1746460800-1746468000@chinchillarescue.org
SUMMARY:ChinDome - Private Stanford Event
DESCRIPTION:
URL:https://chinchillarescue.org/newsite/event/private-stanford-chindome-event/
END:VEVENT
BEGIN:VEVENT
DTSTART;TZID=America/Los_Angeles:20250426T100000
DTEND;TZID=America/Los_Angeles:20250426T150000
DTSTAMP:20260421T062323
CREATED:20250113T054756Z
LAST-MODIFIED:20250113T054756Z
UID:1647-1745661600-1745679600@chinchillarescue.org
SUMMARY:Safari West - Earth Day
DESCRIPTION:We will be joining Safari West to celebrate Earth Day and Otto’s inaugural spring at Safari West and featuring over 40 conservation groups dedicated to safeguarding species worldwide. Explore inspiring organizations committed to conservation and join us in making a difference!
URL:https://chinchillarescue.org/newsite/event/safari-west-earth-day/
LOCATION:Sarfari West\, 3115 Porter Creek Road\, Santa Rosa\, CA\, 95404\, United States
END:VEVENT
END:VCALENDAR